BEGIN:VCALENDAR
VERSION:2.0
PRODID:-//Kirchenmusik in Saalfeld - ECPv6.15.17.1//NONSGML v1.0//EN
CALSCALE:GREGORIAN
METHOD:PUBLISH
X-WR-CALNAME:Kirchenmusik in Saalfeld
X-ORIGINAL-URL:https://kirchenmusik-saalfeld.de
X-WR-CALDESC:Veranstaltungen für Kirchenmusik in Saalfeld
REFRESH-INTERVAL;VALUE=DURATION:PT1H
X-Robots-Tag:noindex
X-PUBLISHED-TTL:PT1H
BEGIN:VTIMEZONE
TZID:Europe/Berlin
BEGIN:DAYLIGHT
TZOFFSETFROM:+0100
TZOFFSETTO:+0200
TZNAME:CEST
DTSTART:20250330T010000
END:DAYLIGHT
BEGIN:STANDARD
TZOFFSETFROM:+0200
TZOFFSETTO:+0100
TZNAME:CET
DTSTART:20251026T010000
END:STANDARD
BEGIN:DAYLIGHT
TZOFFSETFROM:+0100
TZOFFSETTO:+0200
TZNAME:CEST
DTSTART:20260329T010000
END:DAYLIGHT
BEGIN:STANDARD
TZOFFSETFROM:+0200
TZOFFSETTO:+0100
TZNAME:CET
DTSTART:20261025T010000
END:STANDARD
BEGIN:DAYLIGHT
TZOFFSETFROM:+0100
TZOFFSETTO:+0200
TZNAME:CEST
DTSTART:20270328T010000
END:DAYLIGHT
BEGIN:STANDARD
TZOFFSETFROM:+0200
TZOFFSETTO:+0100
TZNAME:CET
DTSTART:20271031T010000
END:STANDARD
END:VTIMEZONE
BEGIN:VEVENT
DTSTART;TZID=Europe/Berlin:20260426T093000
DTEND;TZID=Europe/Berlin:20260426T104500
DTSTAMP:20260425T174334
CREATED:20251126T135328Z
LAST-MODIFIED:20251126T141614Z
UID:4759-1777195800-1777200300@kirchenmusik-saalfeld.de
SUMMARY:Gottesdienst
DESCRIPTION:
URL:https://kirchenmusik-saalfeld.de/veranstaltung/gottesdienst-13/
LOCATION:Johanneskirche\, Johanneskirche Saalfeld\, Saalfeld\, 07318\, Deutschland
CATEGORIES:Mädelchor
GEO:50.64834037143;11.359943449901
X-APPLE-STRUCTURED-LOCATION;VALUE=URI;X-ADDRESS=Johanneskirche Johanneskirche Saalfeld Saalfeld 07318 Deutschland;X-APPLE-RADIUS=500;X-TITLE=Johanneskirche Saalfeld:geo:11.359943449901,50.64834037143
END:VEVENT
BEGIN:VEVENT
DTSTART;TZID=Europe/Berlin:20260503T084500
DTEND;TZID=Europe/Berlin:20260503T084500
DTSTAMP:20260425T174334
CREATED:20251126T135737Z
LAST-MODIFIED:20251126T141814Z
UID:4763-1777797900-1777797900@kirchenmusik-saalfeld.de
SUMMARY:Einsingen/Generalprobe
DESCRIPTION:
URL:https://kirchenmusik-saalfeld.de/veranstaltung/einsingen-generalprobe/
LOCATION:Johanneskirche\, Johanneskirche Saalfeld\, Saalfeld\, 07318\, Deutschland
CATEGORIES:Oratorienchor
GEO:50.64834037143;11.359943449901
X-APPLE-STRUCTURED-LOCATION;VALUE=URI;X-ADDRESS=Johanneskirche Johanneskirche Saalfeld Saalfeld 07318 Deutschland;X-APPLE-RADIUS=500;X-TITLE=Johanneskirche Saalfeld:geo:11.359943449901,50.64834037143
END:VEVENT
BEGIN:VEVENT
DTSTART;TZID=Europe/Berlin:20260503T100000
DTEND;TZID=Europe/Berlin:20260503T111500
DTSTAMP:20260425T174334
CREATED:20251126T135737Z
LAST-MODIFIED:20251126T141815Z
UID:4764-1777802400-1777806900@kirchenmusik-saalfeld.de
SUMMARY:Kantatengottesdienst BWV 167
DESCRIPTION:
URL:https://kirchenmusik-saalfeld.de/veranstaltung/kantatengottesdienst-bwv-167/
LOCATION:Johanneskirche\, Johanneskirche Saalfeld\, Saalfeld\, 07318\, Deutschland
CATEGORIES:Oratorienchor
GEO:50.64834037143;11.359943449901
X-APPLE-STRUCTURED-LOCATION;VALUE=URI;X-ADDRESS=Johanneskirche Johanneskirche Saalfeld Saalfeld 07318 Deutschland;X-APPLE-RADIUS=500;X-TITLE=Johanneskirche Saalfeld:geo:11.359943449901,50.64834037143
END:VEVENT
BEGIN:VEVENT
DTSTART;TZID=Europe/Berlin:20260510T093000
DTEND;TZID=Europe/Berlin:20260510T104500
DTSTAMP:20260425T174334
CREATED:20251126T135739Z
LAST-MODIFIED:20251126T141815Z
UID:4767-1778405400-1778409900@kirchenmusik-saalfeld.de
SUMMARY:Gottesdienst
DESCRIPTION:
URL:https://kirchenmusik-saalfeld.de/veranstaltung/gottesdienst-14/
LOCATION:Johanneskirche\, Johanneskirche Saalfeld\, Saalfeld\, 07318\, Deutschland
CATEGORIES:Thüringer Sängerknaben
GEO:50.64834037143;11.359943449901
X-APPLE-STRUCTURED-LOCATION;VALUE=URI;X-ADDRESS=Johanneskirche Johanneskirche Saalfeld Saalfeld 07318 Deutschland;X-APPLE-RADIUS=500;X-TITLE=Johanneskirche Saalfeld:geo:11.359943449901,50.64834037143
END:VEVENT
BEGIN:VEVENT
DTSTART;TZID=Europe/Berlin:20260524T093000
DTEND;TZID=Europe/Berlin:20260524T104500
DTSTAMP:20260425T174334
CREATED:20251126T135752Z
LAST-MODIFIED:20251126T142017Z
UID:4771-1779615000-1779619500@kirchenmusik-saalfeld.de
SUMMARY:Gottesdienst mit Konfirmation
DESCRIPTION:
URL:https://kirchenmusik-saalfeld.de/veranstaltung/gottesdienst-mit-konfirmation/
LOCATION:Johanneskirche\, Johanneskirche Saalfeld\, Saalfeld\, 07318\, Deutschland
CATEGORIES:Thüringer Sängerknaben
GEO:50.64834037143;11.359943449901
X-APPLE-STRUCTURED-LOCATION;VALUE=URI;X-ADDRESS=Johanneskirche Johanneskirche Saalfeld Saalfeld 07318 Deutschland;X-APPLE-RADIUS=500;X-TITLE=Johanneskirche Saalfeld:geo:11.359943449901,50.64834037143
END:VEVENT
BEGIN:VEVENT
DTSTART;TZID=Europe/Berlin:20260531T093000
DTEND;TZID=Europe/Berlin:20260531T103000
DTSTAMP:20260425T174334
CREATED:20251126T135808Z
LAST-MODIFIED:20251126T142217Z
UID:4774-1780219800-1780223400@kirchenmusik-saalfeld.de
SUMMARY:Gottesdienst
DESCRIPTION:
URL:https://kirchenmusik-saalfeld.de/veranstaltung/gottesdienst-15/
LOCATION:Johanneskirche\, Johanneskirche Saalfeld\, Saalfeld\, 07318\, Deutschland
CATEGORIES:Mädelchor
GEO:50.64834037143;11.359943449901
X-APPLE-STRUCTURED-LOCATION;VALUE=URI;X-ADDRESS=Johanneskirche Johanneskirche Saalfeld Saalfeld 07318 Deutschland;X-APPLE-RADIUS=500;X-TITLE=Johanneskirche Saalfeld:geo:11.359943449901,50.64834037143
END:VEVENT
BEGIN:VEVENT
DTSTART;TZID=Europe/Berlin:20260614T140000
DTEND;TZID=Europe/Berlin:20260614T140000
DTSTAMP:20260425T174334
CREATED:20251126T135823Z
LAST-MODIFIED:20251126T142417Z
UID:4781-1781445600-1781445600@kirchenmusik-saalfeld.de
SUMMARY:Tag der Chöre
DESCRIPTION:
URL:https://kirchenmusik-saalfeld.de/veranstaltung/tag-der-choere/
LOCATION:Johanneskirche\, Johanneskirche Saalfeld\, Saalfeld\, 07318\, Deutschland
CATEGORIES:Mädelchor
GEO:50.64834037143;11.359943449901
X-APPLE-STRUCTURED-LOCATION;VALUE=URI;X-ADDRESS=Johanneskirche Johanneskirche Saalfeld Saalfeld 07318 Deutschland;X-APPLE-RADIUS=500;X-TITLE=Johanneskirche Saalfeld:geo:11.359943449901,50.64834037143
END:VEVENT
BEGIN:VEVENT
DTSTART;TZID=Europe/Berlin:20260614T140000
DTEND;TZID=Europe/Berlin:20260614T144500
DTSTAMP:20260425T174334
CREATED:20251126T135823Z
LAST-MODIFIED:20251126T142418Z
UID:4783-1781445600-1781448300@kirchenmusik-saalfeld.de
SUMMARY:Tag der Chöre
DESCRIPTION:
URL:https://kirchenmusik-saalfeld.de/veranstaltung/tag-der-choere-2/
LOCATION:Johanneskirche\, Johanneskirche Saalfeld\, Saalfeld\, 07318\, Deutschland
CATEGORIES:Thüringer Sängerknaben
GEO:50.64834037143;11.359943449901
X-APPLE-STRUCTURED-LOCATION;VALUE=URI;X-ADDRESS=Johanneskirche Johanneskirche Saalfeld Saalfeld 07318 Deutschland;X-APPLE-RADIUS=500;X-TITLE=Johanneskirche Saalfeld:geo:11.359943449901,50.64834037143
END:VEVENT
BEGIN:VEVENT
DTSTART;TZID=Europe/Berlin:20260621T093000
DTEND;TZID=Europe/Berlin:20260621T103000
DTSTAMP:20260425T174334
CREATED:20251126T135837Z
LAST-MODIFIED:20251126T142617Z
UID:4785-1782034200-1782037800@kirchenmusik-saalfeld.de
SUMMARY:Gottesdienst
DESCRIPTION:
URL:https://kirchenmusik-saalfeld.de/veranstaltung/gottesdienst-16/
LOCATION:Johanneskirche\, Johanneskirche Saalfeld\, Saalfeld\, 07318\, Deutschland
CATEGORIES:Spatzenchor
GEO:50.64834037143;11.359943449901
X-APPLE-STRUCTURED-LOCATION;VALUE=URI;X-ADDRESS=Johanneskirche Johanneskirche Saalfeld Saalfeld 07318 Deutschland;X-APPLE-RADIUS=500;X-TITLE=Johanneskirche Saalfeld:geo:11.359943449901,50.64834037143
END:VEVENT
BEGIN:VEVENT
DTSTART;TZID=Europe/Berlin:20260624T173000
DTEND;TZID=Europe/Berlin:20260624T183000
DTSTAMP:20260425T174334
CREATED:20251126T135838Z
LAST-MODIFIED:20251126T142618Z
UID:4788-1782322200-1782325800@kirchenmusik-saalfeld.de
SUMMARY:Generalprobe (Gesamtchor)
DESCRIPTION:
URL:https://kirchenmusik-saalfeld.de/veranstaltung/generalprobe-gesamtchor/
LOCATION:Johanneskirche\, Johanneskirche Saalfeld\, Saalfeld\, 07318\, Deutschland
CATEGORIES:Mädelchor
GEO:50.64834037143;11.359943449901
X-APPLE-STRUCTURED-LOCATION;VALUE=URI;X-ADDRESS=Johanneskirche Johanneskirche Saalfeld Saalfeld 07318 Deutschland;X-APPLE-RADIUS=500;X-TITLE=Johanneskirche Saalfeld:geo:11.359943449901,50.64834037143
END:VEVENT
BEGIN:VEVENT
DTSTART;TZID=Europe/Berlin:20260624T193000
DTEND;TZID=Europe/Berlin:20260624T203000
DTSTAMP:20260425T174334
CREATED:20251126T135852Z
LAST-MODIFIED:20251126T142817Z
UID:4789-1782329400-1782333000@kirchenmusik-saalfeld.de
SUMMARY:Abendmotette
DESCRIPTION:
URL:https://kirchenmusik-saalfeld.de/veranstaltung/abendmotette/
LOCATION:Johanneskirche\, Johanneskirche Saalfeld\, Saalfeld\, 07318\, Deutschland
CATEGORIES:Mädelchor
GEO:50.64834037143;11.359943449901
X-APPLE-STRUCTURED-LOCATION;VALUE=URI;X-ADDRESS=Johanneskirche Johanneskirche Saalfeld Saalfeld 07318 Deutschland;X-APPLE-RADIUS=500;X-TITLE=Johanneskirche Saalfeld:geo:11.359943449901,50.64834037143
END:VEVENT
BEGIN:VEVENT
DTSTART;TZID=Europe/Berlin:20260628T093000
DTEND;TZID=Europe/Berlin:20260628T103000
DTSTAMP:20260425T174334
CREATED:20251126T135852Z
LAST-MODIFIED:20251126T142817Z
UID:4791-1782639000-1782642600@kirchenmusik-saalfeld.de
SUMMARY:Gottesdienst
DESCRIPTION:
URL:https://kirchenmusik-saalfeld.de/veranstaltung/gottesdienst-17/
LOCATION:Johanneskirche\, Johanneskirche Saalfeld\, Saalfeld\, 07318\, Deutschland
CATEGORIES:Mädelchor
GEO:50.64834037143;11.359943449901
X-APPLE-STRUCTURED-LOCATION;VALUE=URI;X-ADDRESS=Johanneskirche Johanneskirche Saalfeld Saalfeld 07318 Deutschland;X-APPLE-RADIUS=500;X-TITLE=Johanneskirche Saalfeld:geo:11.359943449901,50.64834037143
END:VEVENT
BEGIN:VEVENT
DTSTART;TZID=Europe/Berlin:20260702T170000
DTEND;TZID=Europe/Berlin:20260702T190000
DTSTAMP:20260425T174334
CREATED:20251126T135907Z
LAST-MODIFIED:20251126T143018Z
UID:4795-1783011600-1783018800@kirchenmusik-saalfeld.de
SUMMARY:Reiseprobe
DESCRIPTION:
URL:https://kirchenmusik-saalfeld.de/veranstaltung/reiseprobe-2/
LOCATION:Johanneskirche\, Johanneskirche Saalfeld\, Saalfeld\, 07318\, Deutschland
CATEGORIES:Thüringer Sängerknaben
GEO:50.64834037143;11.359943449901
X-APPLE-STRUCTURED-LOCATION;VALUE=URI;X-ADDRESS=Johanneskirche Johanneskirche Saalfeld Saalfeld 07318 Deutschland;X-APPLE-RADIUS=500;X-TITLE=Johanneskirche Saalfeld:geo:11.359943449901,50.64834037143
END:VEVENT
BEGIN:VEVENT
DTSTART;TZID=Europe/Berlin:20260715T170000
DTEND;TZID=Europe/Berlin:20260715T170000
DTSTAMP:20260425T174334
CREATED:20251126T143619Z
LAST-MODIFIED:20251126T144550Z
UID:4889-1784134800-1784134800@kirchenmusik-saalfeld.de
SUMMARY:Probe
DESCRIPTION:
URL:https://kirchenmusik-saalfeld.de/veranstaltung/probe-5/
LOCATION:Johanneskirche\, Johanneskirche Saalfeld\, Saalfeld\, 07318\, Deutschland
CATEGORIES:Thüringer Sängerknaben
GEO:50.64834037143;11.359943449901
X-APPLE-STRUCTURED-LOCATION;VALUE=URI;X-ADDRESS=Johanneskirche Johanneskirche Saalfeld Saalfeld 07318 Deutschland;X-APPLE-RADIUS=500;X-TITLE=Johanneskirche Saalfeld:geo:11.359943449901,50.64834037143
END:VEVENT
BEGIN:VEVENT
DTSTART;TZID=Europe/Berlin:20260715T193000
DTEND;TZID=Europe/Berlin:20260715T193000
DTSTAMP:20260425T174334
CREATED:20251126T143619Z
LAST-MODIFIED:20251126T144539Z
UID:4890-1784143800-1784143800@kirchenmusik-saalfeld.de
SUMMARY:Abendmotette
DESCRIPTION:
URL:https://kirchenmusik-saalfeld.de/veranstaltung/abendmotette-2/
LOCATION:Johanneskirche\, Johanneskirche Saalfeld\, Saalfeld\, 07318\, Deutschland
CATEGORIES:Thüringer Sängerknaben
GEO:50.64834037143;11.359943449901
X-APPLE-STRUCTURED-LOCATION;VALUE=URI;X-ADDRESS=Johanneskirche Johanneskirche Saalfeld Saalfeld 07318 Deutschland;X-APPLE-RADIUS=500;X-TITLE=Johanneskirche Saalfeld:geo:11.359943449901,50.64834037143
END:VEVENT
END:VCALENDAR