BEGIN:VCALENDAR
VERSION:2.0
PRODID:-//Kirchenmusik in Saalfeld - ECPv6.15.17.1//NONSGML v1.0//EN
CALSCALE:GREGORIAN
METHOD:PUBLISH
X-ORIGINAL-URL:https://kirchenmusik-saalfeld.de
X-WR-CALDESC:Veranstaltungen für Kirchenmusik in Saalfeld
REFRESH-INTERVAL;VALUE=DURATION:PT1H
X-Robots-Tag:noindex
X-PUBLISHED-TTL:PT1H
BEGIN:VTIMEZONE
TZID:Europe/Berlin
BEGIN:DAYLIGHT
TZOFFSETFROM:+0100
TZOFFSETTO:+0200
TZNAME:CEST
DTSTART:20250330T010000
END:DAYLIGHT
BEGIN:STANDARD
TZOFFSETFROM:+0200
TZOFFSETTO:+0100
TZNAME:CET
DTSTART:20251026T010000
END:STANDARD
BEGIN:DAYLIGHT
TZOFFSETFROM:+0100
TZOFFSETTO:+0200
TZNAME:CEST
DTSTART:20260329T010000
END:DAYLIGHT
BEGIN:STANDARD
TZOFFSETFROM:+0200
TZOFFSETTO:+0100
TZNAME:CET
DTSTART:20261025T010000
END:STANDARD
BEGIN:DAYLIGHT
TZOFFSETFROM:+0100
TZOFFSETTO:+0200
TZNAME:CEST
DTSTART:20270328T010000
END:DAYLIGHT
BEGIN:STANDARD
TZOFFSETFROM:+0200
TZOFFSETTO:+0100
TZNAME:CET
DTSTART:20271031T010000
END:STANDARD
END:VTIMEZONE
BEGIN:VEVENT
DTSTART;TZID=Europe/Berlin:20260425T180000
DTEND;TZID=Europe/Berlin:20260425T180000
DTSTAMP:20260425T160815
CREATED:20250616T160550Z
LAST-MODIFIED:20260115T114040Z
UID:4468-1777140000-1777140000@kirchenmusik-saalfeld.de
SUMMARY:Konzert in St. Lucas Oberhain
DESCRIPTION:
URL:https://kirchenmusik-saalfeld.de/veranstaltung/konzert-in-6/
CATEGORIES:Thüringer Sängerknaben
END:VEVENT
BEGIN:VEVENT
DTSTART;TZID=Europe/Berlin:20260426T084500
DTEND;TZID=Europe/Berlin:20260426T084500
DTSTAMP:20260425T160815
CREATED:20251126T135327Z
LAST-MODIFIED:20251126T141614Z
UID:4758-1777193100-1777193100@kirchenmusik-saalfeld.de
SUMMARY:Einsingen
DESCRIPTION:
URL:https://kirchenmusik-saalfeld.de/veranstaltung/einsingen-23/
CATEGORIES:Mädelchor
END:VEVENT
BEGIN:VEVENT
DTSTART;TZID=Europe/Berlin:20260426T093000
DTEND;TZID=Europe/Berlin:20260426T104500
DTSTAMP:20260425T160815
CREATED:20251126T135328Z
LAST-MODIFIED:20251126T141614Z
UID:4759-1777195800-1777200300@kirchenmusik-saalfeld.de
SUMMARY:Gottesdienst
DESCRIPTION:
URL:https://kirchenmusik-saalfeld.de/veranstaltung/gottesdienst-13/
LOCATION:Johanneskirche\, Johanneskirche Saalfeld\, Saalfeld\, 07318\, Deutschland
CATEGORIES:Mädelchor
GEO:50.64834037143;11.359943449901
X-APPLE-STRUCTURED-LOCATION;VALUE=URI;X-ADDRESS=Johanneskirche Johanneskirche Saalfeld Saalfeld 07318 Deutschland;X-APPLE-RADIUS=500;X-TITLE=Johanneskirche Saalfeld:geo:11.359943449901,50.64834037143
END:VEVENT
BEGIN:VEVENT
DTSTART;TZID=Europe/Berlin:20260426T130000
DTEND;TZID=Europe/Berlin:20260426T130000
DTSTAMP:20260425T160816
CREATED:20251126T135328Z
LAST-MODIFIED:20251126T141614Z
UID:4760-1777208400-1777208400@kirchenmusik-saalfeld.de
SUMMARY:Abfahrt am Markt
DESCRIPTION:
URL:https://kirchenmusik-saalfeld.de/veranstaltung/abfahrt-am-markt/
CATEGORIES:Thüringer Sängerknaben
END:VEVENT
BEGIN:VEVENT
DTSTART;TZID=Europe/Berlin:20260426T160000
DTEND;TZID=Europe/Berlin:20260426T170000
DTSTAMP:20260425T160816
CREATED:20251126T135328Z
LAST-MODIFIED:20251126T141615Z
UID:4761-1777219200-1777222800@kirchenmusik-saalfeld.de
SUMMARY:Konzert in St. Johannis Magdala
DESCRIPTION:
URL:https://kirchenmusik-saalfeld.de/veranstaltung/konzert-in-st-johannis-magdala/
CATEGORIES:Thüringer Sängerknaben
END:VEVENT
BEGIN:VEVENT
DTSTART;TZID=Europe/Berlin:20260428T193000
DTEND;TZID=Europe/Berlin:20260428T210000
DTSTAMP:20260425T160816
CREATED:20251126T135328Z
LAST-MODIFIED:20251126T141615Z
UID:4762-1777404600-1777410000@kirchenmusik-saalfeld.de
SUMMARY:Gesamtprobe
DESCRIPTION:
URL:https://kirchenmusik-saalfeld.de/veranstaltung/gesamtprobe/
CATEGORIES:Oratorienchor
END:VEVENT
BEGIN:VEVENT
DTSTART;TZID=Europe/Berlin:20260503T084500
DTEND;TZID=Europe/Berlin:20260503T084500
DTSTAMP:20260425T160816
CREATED:20251126T135737Z
LAST-MODIFIED:20251126T141814Z
UID:4763-1777797900-1777797900@kirchenmusik-saalfeld.de
SUMMARY:Einsingen/Generalprobe
DESCRIPTION:
URL:https://kirchenmusik-saalfeld.de/veranstaltung/einsingen-generalprobe/
LOCATION:Johanneskirche\, Johanneskirche Saalfeld\, Saalfeld\, 07318\, Deutschland
CATEGORIES:Oratorienchor
GEO:50.64834037143;11.359943449901
X-APPLE-STRUCTURED-LOCATION;VALUE=URI;X-ADDRESS=Johanneskirche Johanneskirche Saalfeld Saalfeld 07318 Deutschland;X-APPLE-RADIUS=500;X-TITLE=Johanneskirche Saalfeld:geo:11.359943449901,50.64834037143
END:VEVENT
BEGIN:VEVENT
DTSTART;TZID=Europe/Berlin:20260503T100000
DTEND;TZID=Europe/Berlin:20260503T111500
DTSTAMP:20260425T160816
CREATED:20251126T135737Z
LAST-MODIFIED:20251126T141815Z
UID:4764-1777802400-1777806900@kirchenmusik-saalfeld.de
SUMMARY:Kantatengottesdienst BWV 167
DESCRIPTION:
URL:https://kirchenmusik-saalfeld.de/veranstaltung/kantatengottesdienst-bwv-167/
LOCATION:Johanneskirche\, Johanneskirche Saalfeld\, Saalfeld\, 07318\, Deutschland
CATEGORIES:Oratorienchor
GEO:50.64834037143;11.359943449901
X-APPLE-STRUCTURED-LOCATION;VALUE=URI;X-ADDRESS=Johanneskirche Johanneskirche Saalfeld Saalfeld 07318 Deutschland;X-APPLE-RADIUS=500;X-TITLE=Johanneskirche Saalfeld:geo:11.359943449901,50.64834037143
END:VEVENT
BEGIN:VEVENT
DTSTART;TZID=Europe/Berlin:20260505T193000
DTEND;TZID=Europe/Berlin:20260505T210000
DTSTAMP:20260425T160816
CREATED:20251126T135738Z
LAST-MODIFIED:20251126T141815Z
UID:4765-1778009400-1778014800@kirchenmusik-saalfeld.de
SUMMARY:Männerchor
DESCRIPTION:
URL:https://kirchenmusik-saalfeld.de/veranstaltung/maennerchor-2/
LOCATION:Kantorat\, Kirchplatz 2\, Saalfeld\, 07318\, Deutschland
CATEGORIES:Oratorienchor
END:VEVENT
BEGIN:VEVENT
DTSTART;TZID=Europe/Berlin:20260510T084500
DTEND;TZID=Europe/Berlin:20260510T084500
DTSTAMP:20260425T160816
CREATED:20251126T135738Z
LAST-MODIFIED:20251126T141815Z
UID:4766-1778402700-1778402700@kirchenmusik-saalfeld.de
SUMMARY:Einsingen
DESCRIPTION:
URL:https://kirchenmusik-saalfeld.de/veranstaltung/einsingen-24/
LOCATION:Kantorat\, Kirchplatz 2\, Saalfeld\, 07318\, Deutschland
CATEGORIES:Thüringer Sängerknaben
END:VEVENT
BEGIN:VEVENT
DTSTART;TZID=Europe/Berlin:20260510T093000
DTEND;TZID=Europe/Berlin:20260510T104500
DTSTAMP:20260425T160816
CREATED:20251126T135739Z
LAST-MODIFIED:20251126T141815Z
UID:4767-1778405400-1778409900@kirchenmusik-saalfeld.de
SUMMARY:Gottesdienst
DESCRIPTION:
URL:https://kirchenmusik-saalfeld.de/veranstaltung/gottesdienst-14/
LOCATION:Johanneskirche\, Johanneskirche Saalfeld\, Saalfeld\, 07318\, Deutschland
CATEGORIES:Thüringer Sängerknaben
GEO:50.64834037143;11.359943449901
X-APPLE-STRUCTURED-LOCATION;VALUE=URI;X-ADDRESS=Johanneskirche Johanneskirche Saalfeld Saalfeld 07318 Deutschland;X-APPLE-RADIUS=500;X-TITLE=Johanneskirche Saalfeld:geo:11.359943449901,50.64834037143
END:VEVENT
BEGIN:VEVENT
DTSTART;TZID=Europe/Berlin:20260512T193000
DTEND;TZID=Europe/Berlin:20260512T210000
DTSTAMP:20260425T160816
CREATED:20251126T135751Z
LAST-MODIFIED:20251126T142015Z
UID:4768-1778614200-1778619600@kirchenmusik-saalfeld.de
SUMMARY:Frauenchor
DESCRIPTION:
URL:https://kirchenmusik-saalfeld.de/veranstaltung/frauenchor-8/
LOCATION:Kantorat\, Kirchplatz 2\, Saalfeld\, 07318\, Deutschland
CATEGORIES:Oratorienchor
END:VEVENT
BEGIN:VEVENT
DTSTART;TZID=Europe/Berlin:20260519T193000
DTEND;TZID=Europe/Berlin:20260519T210000
DTSTAMP:20260425T160816
CREATED:20251126T135752Z
LAST-MODIFIED:20251126T142016Z
UID:4769-1779219000-1779224400@kirchenmusik-saalfeld.de
SUMMARY:Männerchor
DESCRIPTION:
URL:https://kirchenmusik-saalfeld.de/veranstaltung/maennerchor-3/
LOCATION:Kantorat\, Kirchplatz 2\, Saalfeld\, 07318\, Deutschland
CATEGORIES:Oratorienchor
END:VEVENT
BEGIN:VEVENT
DTSTART;TZID=Europe/Berlin:20260524T084500
DTEND;TZID=Europe/Berlin:20260524T084500
DTSTAMP:20260425T160816
CREATED:20251126T135752Z
LAST-MODIFIED:20251126T142016Z
UID:4770-1779612300-1779612300@kirchenmusik-saalfeld.de
SUMMARY:Einsingen
DESCRIPTION:
URL:https://kirchenmusik-saalfeld.de/veranstaltung/einsingen-25/
LOCATION:Kantorat\, Kirchplatz 2\, Saalfeld\, 07318\, Deutschland
CATEGORIES:Thüringer Sängerknaben
END:VEVENT
BEGIN:VEVENT
DTSTART;TZID=Europe/Berlin:20260524T093000
DTEND;TZID=Europe/Berlin:20260524T104500
DTSTAMP:20260425T160816
CREATED:20251126T135752Z
LAST-MODIFIED:20251126T142017Z
UID:4771-1779615000-1779619500@kirchenmusik-saalfeld.de
SUMMARY:Gottesdienst mit Konfirmation
DESCRIPTION:
URL:https://kirchenmusik-saalfeld.de/veranstaltung/gottesdienst-mit-konfirmation/
LOCATION:Johanneskirche\, Johanneskirche Saalfeld\, Saalfeld\, 07318\, Deutschland
CATEGORIES:Thüringer Sängerknaben
GEO:50.64834037143;11.359943449901
X-APPLE-STRUCTURED-LOCATION;VALUE=URI;X-ADDRESS=Johanneskirche Johanneskirche Saalfeld Saalfeld 07318 Deutschland;X-APPLE-RADIUS=500;X-TITLE=Johanneskirche Saalfeld:geo:11.359943449901,50.64834037143
END:VEVENT
BEGIN:VEVENT
DTSTART;TZID=Europe/Berlin:20260526T193000
DTEND;TZID=Europe/Berlin:20260526T210000
DTSTAMP:20260425T160816
CREATED:20251126T135752Z
LAST-MODIFIED:20251126T142017Z
UID:4772-1779823800-1779829200@kirchenmusik-saalfeld.de
SUMMARY:Gesamtchor
DESCRIPTION:
URL:https://kirchenmusik-saalfeld.de/veranstaltung/gesamtchor-6/
CATEGORIES:Oratorienchor
END:VEVENT
BEGIN:VEVENT
DTSTART;TZID=Europe/Berlin:20260531T084500
DTEND;TZID=Europe/Berlin:20260531T084500
DTSTAMP:20260425T160816
CREATED:20251126T135807Z
LAST-MODIFIED:20260402T083608Z
UID:4773-1780217100-1780217100@kirchenmusik-saalfeld.de
SUMMARY:Einsingen
DESCRIPTION:
URL:https://kirchenmusik-saalfeld.de/veranstaltung/einsingen-26/
LOCATION:Kantorat\, Kirchplatz 2\, Saalfeld\, 07318\, Deutschland
CATEGORIES:Mädelchor
END:VEVENT
BEGIN:VEVENT
DTSTART;TZID=Europe/Berlin:20260531T093000
DTEND;TZID=Europe/Berlin:20260531T103000
DTSTAMP:20260425T160816
CREATED:20251126T135808Z
LAST-MODIFIED:20251126T142217Z
UID:4774-1780219800-1780223400@kirchenmusik-saalfeld.de
SUMMARY:Gottesdienst
DESCRIPTION:
URL:https://kirchenmusik-saalfeld.de/veranstaltung/gottesdienst-15/
LOCATION:Johanneskirche\, Johanneskirche Saalfeld\, Saalfeld\, 07318\, Deutschland
CATEGORIES:Mädelchor
GEO:50.64834037143;11.359943449901
X-APPLE-STRUCTURED-LOCATION;VALUE=URI;X-ADDRESS=Johanneskirche Johanneskirche Saalfeld Saalfeld 07318 Deutschland;X-APPLE-RADIUS=500;X-TITLE=Johanneskirche Saalfeld:geo:11.359943449901,50.64834037143
END:VEVENT
BEGIN:VEVENT
DTSTART;TZID=Europe/Berlin:20260602T193000
DTEND;TZID=Europe/Berlin:20260602T210000
DTSTAMP:20260425T160816
CREATED:20251126T135808Z
LAST-MODIFIED:20251126T142217Z
UID:4775-1780428600-1780434000@kirchenmusik-saalfeld.de
SUMMARY:Frauenchor
DESCRIPTION:
URL:https://kirchenmusik-saalfeld.de/veranstaltung/frauenchor-9/
LOCATION:Kantorat\, Kirchplatz 2\, Saalfeld\, 07318\, Deutschland
CATEGORIES:Oratorienchor
END:VEVENT
BEGIN:VEVENT
DTSTART;TZID=Europe/Berlin:20260609T193000
DTEND;TZID=Europe/Berlin:20260609T210000
DTSTAMP:20260425T160816
CREATED:20251126T135809Z
LAST-MODIFIED:20251126T142218Z
UID:4776-1781033400-1781038800@kirchenmusik-saalfeld.de
SUMMARY:Männerchor
DESCRIPTION:
URL:https://kirchenmusik-saalfeld.de/veranstaltung/maennerchor-7/
LOCATION:Kantorat\, Kirchplatz 2\, Saalfeld\, 07318\, Deutschland
CATEGORIES:Oratorienchor
END:VEVENT
BEGIN:VEVENT
DTSTART;TZID=Europe/Berlin:20260613T140000
DTEND;TZID=Europe/Berlin:20260613T183000
DTSTAMP:20260425T160816
CREATED:20260413T100833Z
LAST-MODIFIED:20260413T100833Z
UID:5183-1781359200-1781375400@kirchenmusik-saalfeld.de
SUMMARY:Kirchenchortreffen des Kirchenkreises in der Nicolaikirche Bad Blankenburg
DESCRIPTION:
URL:https://kirchenmusik-saalfeld.de/veranstaltung/kirchenchortreffen-des-kirchenkreises-in-der-nicolaikirche-bad-blankenburg/
CATEGORIES:Oratorienchor
END:VEVENT
BEGIN:VEVENT
DTSTART;TZID=Europe/Berlin:20260614T090000
DTEND;TZID=Europe/Berlin:20260614T090000
DTSTAMP:20260425T160816
CREATED:20251126T135809Z
LAST-MODIFIED:20251126T142218Z
UID:4777-1781427600-1781427600@kirchenmusik-saalfeld.de
SUMMARY:Soundcheck/Einsingen
DESCRIPTION:
URL:https://kirchenmusik-saalfeld.de/veranstaltung/soundcheck-einsingen/
LOCATION:Marktplatz\, Markt\, Saalfeld\, 07318\, Deutschland
CATEGORIES:Thüringer Sängerknaben
GEO:50.647;11.36
X-APPLE-STRUCTURED-LOCATION;VALUE=URI;X-ADDRESS=Marktplatz Markt Saalfeld 07318 Deutschland;X-APPLE-RADIUS=500;X-TITLE=Markt:geo:11.36,50.647
END:VEVENT
BEGIN:VEVENT
DTSTART;TZID=Europe/Berlin:20260614T100000
DTEND;TZID=Europe/Berlin:20260614T110000
DTSTAMP:20260425T160816
CREATED:20251126T135822Z
LAST-MODIFIED:20251126T142417Z
UID:4779-1781431200-1781434800@kirchenmusik-saalfeld.de
SUMMARY:Marktfestgottesdienst
DESCRIPTION:
URL:https://kirchenmusik-saalfeld.de/veranstaltung/marktfestgottesdienst/
LOCATION:Marktplatz\, Markt\, Saalfeld\, 07318\, Deutschland
CATEGORIES:Thüringer Sängerknaben
GEO:50.647;11.36
X-APPLE-STRUCTURED-LOCATION;VALUE=URI;X-ADDRESS=Marktplatz Markt Saalfeld 07318 Deutschland;X-APPLE-RADIUS=500;X-TITLE=Markt:geo:11.36,50.647
END:VEVENT
BEGIN:VEVENT
DTSTART;TZID=Europe/Berlin:20260614T133000
DTEND;TZID=Europe/Berlin:20260614T133000
DTSTAMP:20260425T160816
CREATED:20251126T135822Z
LAST-MODIFIED:20251126T142417Z
UID:4780-1781443800-1781443800@kirchenmusik-saalfeld.de
SUMMARY:Einsingen
DESCRIPTION:
URL:https://kirchenmusik-saalfeld.de/veranstaltung/einsingen-27/
LOCATION:Kantorat\, Kirchplatz 2\, Saalfeld\, 07318\, Deutschland
CATEGORIES:Mädelchor
END:VEVENT
BEGIN:VEVENT
DTSTART;TZID=Europe/Berlin:20260614T134500
DTEND;TZID=Europe/Berlin:20260614T134500
DTSTAMP:20260425T160816
CREATED:20251126T135823Z
LAST-MODIFIED:20251126T142417Z
UID:4782-1781444700-1781444700@kirchenmusik-saalfeld.de
SUMMARY:Einsingen
DESCRIPTION:
URL:https://kirchenmusik-saalfeld.de/veranstaltung/einsingen-28/
LOCATION:Kantorat\, Kirchplatz 2\, Saalfeld\, 07318\, Deutschland
CATEGORIES:Thüringer Sängerknaben
END:VEVENT
BEGIN:VEVENT
DTSTART;TZID=Europe/Berlin:20260614T140000
DTEND;TZID=Europe/Berlin:20260614T140000
DTSTAMP:20260425T160816
CREATED:20251126T135823Z
LAST-MODIFIED:20251126T142417Z
UID:4781-1781445600-1781445600@kirchenmusik-saalfeld.de
SUMMARY:Tag der Chöre
DESCRIPTION:
URL:https://kirchenmusik-saalfeld.de/veranstaltung/tag-der-choere/
LOCATION:Johanneskirche\, Johanneskirche Saalfeld\, Saalfeld\, 07318\, Deutschland
CATEGORIES:Mädelchor
GEO:50.64834037143;11.359943449901
X-APPLE-STRUCTURED-LOCATION;VALUE=URI;X-ADDRESS=Johanneskirche Johanneskirche Saalfeld Saalfeld 07318 Deutschland;X-APPLE-RADIUS=500;X-TITLE=Johanneskirche Saalfeld:geo:11.359943449901,50.64834037143
END:VEVENT
BEGIN:VEVENT
DTSTART;TZID=Europe/Berlin:20260614T140000
DTEND;TZID=Europe/Berlin:20260614T144500
DTSTAMP:20260425T160816
CREATED:20251126T135823Z
LAST-MODIFIED:20251126T142418Z
UID:4783-1781445600-1781448300@kirchenmusik-saalfeld.de
SUMMARY:Tag der Chöre
DESCRIPTION:
URL:https://kirchenmusik-saalfeld.de/veranstaltung/tag-der-choere-2/
LOCATION:Johanneskirche\, Johanneskirche Saalfeld\, Saalfeld\, 07318\, Deutschland
CATEGORIES:Thüringer Sängerknaben
GEO:50.64834037143;11.359943449901
X-APPLE-STRUCTURED-LOCATION;VALUE=URI;X-ADDRESS=Johanneskirche Johanneskirche Saalfeld Saalfeld 07318 Deutschland;X-APPLE-RADIUS=500;X-TITLE=Johanneskirche Saalfeld:geo:11.359943449901,50.64834037143
END:VEVENT
BEGIN:VEVENT
DTSTART;TZID=Europe/Berlin:20260616T193000
DTEND;TZID=Europe/Berlin:20260616T210000
DTSTAMP:20260425T160816
CREATED:20251126T135837Z
LAST-MODIFIED:20251126T142617Z
UID:4784-1781638200-1781643600@kirchenmusik-saalfeld.de
SUMMARY:Frauenchor
DESCRIPTION:
URL:https://kirchenmusik-saalfeld.de/veranstaltung/frauenchor-10/
LOCATION:Kantorat\, Kirchplatz 2\, Saalfeld\, 07318\, Deutschland
CATEGORIES:Oratorienchor
END:VEVENT
BEGIN:VEVENT
DTSTART;TZID=Europe/Berlin:20260621T093000
DTEND;TZID=Europe/Berlin:20260621T103000
DTSTAMP:20260425T160816
CREATED:20251126T135837Z
LAST-MODIFIED:20251126T142617Z
UID:4785-1782034200-1782037800@kirchenmusik-saalfeld.de
SUMMARY:Gottesdienst
DESCRIPTION:
URL:https://kirchenmusik-saalfeld.de/veranstaltung/gottesdienst-16/
LOCATION:Johanneskirche\, Johanneskirche Saalfeld\, Saalfeld\, 07318\, Deutschland
CATEGORIES:Spatzenchor
GEO:50.64834037143;11.359943449901
X-APPLE-STRUCTURED-LOCATION;VALUE=URI;X-ADDRESS=Johanneskirche Johanneskirche Saalfeld Saalfeld 07318 Deutschland;X-APPLE-RADIUS=500;X-TITLE=Johanneskirche Saalfeld:geo:11.359943449901,50.64834037143
END:VEVENT
BEGIN:VEVENT
DTSTART;TZID=Europe/Berlin:20260623T193000
DTEND;TZID=Europe/Berlin:20260623T210000
DTSTAMP:20260425T160816
CREATED:20251126T135838Z
LAST-MODIFIED:20251126T142617Z
UID:4786-1782243000-1782248400@kirchenmusik-saalfeld.de
SUMMARY:Männerchor
DESCRIPTION:
URL:https://kirchenmusik-saalfeld.de/veranstaltung/maennerchor-8/
LOCATION:Kantorat\, Kirchplatz 2\, Saalfeld\, 07318\, Deutschland
CATEGORIES:Oratorienchor
END:VEVENT
END:VCALENDAR