BEGIN:VCALENDAR
VERSION:2.0
PRODID:-//Kirchenmusik in Saalfeld - ECPv6.15.17.1//NONSGML v1.0//EN
CALSCALE:GREGORIAN
METHOD:PUBLISH
X-WR-CALNAME:Kirchenmusik in Saalfeld
X-ORIGINAL-URL:https://kirchenmusik-saalfeld.de
X-WR-CALDESC:Veranstaltungen für Kirchenmusik in Saalfeld
REFRESH-INTERVAL;VALUE=DURATION:PT1H
X-Robots-Tag:noindex
X-PUBLISHED-TTL:PT1H
BEGIN:VTIMEZONE
TZID:Europe/Berlin
BEGIN:DAYLIGHT
TZOFFSETFROM:+0100
TZOFFSETTO:+0200
TZNAME:CEST
DTSTART:20250330T010000
END:DAYLIGHT
BEGIN:STANDARD
TZOFFSETFROM:+0200
TZOFFSETTO:+0100
TZNAME:CET
DTSTART:20251026T010000
END:STANDARD
BEGIN:DAYLIGHT
TZOFFSETFROM:+0100
TZOFFSETTO:+0200
TZNAME:CEST
DTSTART:20260329T010000
END:DAYLIGHT
BEGIN:STANDARD
TZOFFSETFROM:+0200
TZOFFSETTO:+0100
TZNAME:CET
DTSTART:20261025T010000
END:STANDARD
BEGIN:DAYLIGHT
TZOFFSETFROM:+0100
TZOFFSETTO:+0200
TZNAME:CEST
DTSTART:20270328T010000
END:DAYLIGHT
BEGIN:STANDARD
TZOFFSETFROM:+0200
TZOFFSETTO:+0100
TZNAME:CET
DTSTART:20271031T010000
END:STANDARD
END:VTIMEZONE
BEGIN:VEVENT
DTSTART;TZID=Europe/Berlin:20260416T150000
DTEND;TZID=Europe/Berlin:20260419T120000
DTSTAMP:20260425T204907
CREATED:20251126T135100Z
LAST-MODIFIED:20251126T141544Z
UID:4756-1776351600-1776600000@kirchenmusik-saalfeld.de
SUMMARY:Probenlager
DESCRIPTION:
URL:https://kirchenmusik-saalfeld.de/veranstaltung/probenlager/
LOCATION:Siegmundsburg\, Siegmundsburg\, 98749\, Deutschland
CATEGORIES:Thüringer Sängerknaben
END:VEVENT
END:VCALENDAR