BEGIN:VCALENDAR
VERSION:2.0
PRODID:-//Kirchenmusik in Saalfeld - ECPv6.15.17.1//NONSGML v1.0//EN
CALSCALE:GREGORIAN
METHOD:PUBLISH
X-ORIGINAL-URL:https://kirchenmusik-saalfeld.de
X-WR-CALDESC:Veranstaltungen für Kirchenmusik in Saalfeld
REFRESH-INTERVAL;VALUE=DURATION:PT1H
X-Robots-Tag:noindex
X-PUBLISHED-TTL:PT1H
BEGIN:VTIMEZONE
TZID:Europe/Berlin
BEGIN:DAYLIGHT
TZOFFSETFROM:+0100
TZOFFSETTO:+0200
TZNAME:CEST
DTSTART:20250330T010000
END:DAYLIGHT
BEGIN:STANDARD
TZOFFSETFROM:+0200
TZOFFSETTO:+0100
TZNAME:CET
DTSTART:20251026T010000
END:STANDARD
BEGIN:DAYLIGHT
TZOFFSETFROM:+0100
TZOFFSETTO:+0200
TZNAME:CEST
DTSTART:20260329T010000
END:DAYLIGHT
BEGIN:STANDARD
TZOFFSETFROM:+0200
TZOFFSETTO:+0100
TZNAME:CET
DTSTART:20261025T010000
END:STANDARD
BEGIN:DAYLIGHT
TZOFFSETFROM:+0100
TZOFFSETTO:+0200
TZNAME:CEST
DTSTART:20270328T010000
END:DAYLIGHT
BEGIN:STANDARD
TZOFFSETFROM:+0200
TZOFFSETTO:+0100
TZNAME:CET
DTSTART:20271031T010000
END:STANDARD
END:VTIMEZONE
BEGIN:VEVENT
DTSTART;TZID=Europe/Berlin:20260401T183000
DTEND;TZID=Europe/Berlin:20260401T183000
DTSTAMP:20260425T204927
CREATED:20251126T151847Z
LAST-MODIFIED:20251126T151847Z
UID:4909-1775068200-1775068200@kirchenmusik-saalfeld.de
SUMMARY:Gesamtchor Hauptprobe Teil I
DESCRIPTION:
URL:https://kirchenmusik-saalfeld.de/veranstaltung/gesamtchor-hauptprobe-teil-i/
LOCATION:Johanneskirche\, Johanneskirche Saalfeld\, Saalfeld\, 07318\, Deutschland
CATEGORIES:Oratorienchor
GEO:50.64834037143;11.359943449901
X-APPLE-STRUCTURED-LOCATION;VALUE=URI;X-ADDRESS=Johanneskirche Johanneskirche Saalfeld Saalfeld 07318 Deutschland;X-APPLE-RADIUS=500;X-TITLE=Johanneskirche Saalfeld:geo:11.359943449901,50.64834037143
END:VEVENT
END:VCALENDAR